BEGIN:VCALENDAR
VERSION:2.0
PRODID:-//pretix//pretix.eu//
BEGIN:VEVENT
UID:pretix-zagazaga-alexandra25-0@evenimente.zagazaga.ro
DTSTART;VALUE=DATE:20250524
DTEND;VALUE=DATE:20250525
DESCRIPTION:Bilete: https://evenimente.zagazaga.ro/alexandra25/\nOrganizato
 r: Zaga Zaga Sat
DTSTAMP:20260419T144300Z
LOCATION:Zaga Zaga Sat\, DN24\, Doaga
SUMMARY:Concert Alexandra Ușurelu
END:VEVENT
END:VCALENDAR
