BEGIN:VCALENDAR
VERSION:2.0
PRODID:-//pretix//pretix.eu//
BEGIN:VEVENT
UID:pretix-zagazaga-alifantis-zan-23-0@evenimente.zagazaga.ro
DTSTART;VALUE=DATE:20230520
DTEND;VALUE=DATE:20230521
DESCRIPTION:Bilete: https://evenimente.zagazaga.ro/alifantis-zan-23/\nOrgan
 izator: Zaga Zaga Sat
DTSTAMP:20260419T144455Z
LOCATION:Zaga Zaga Sat\, DN24\, Doaga
SUMMARY:Concert Alifantis & ZAN
END:VEVENT
END:VCALENDAR
