BEGIN:VCALENDAR
VERSION:2.0
PRODID:-//pretix//pretix.eu//
BEGIN:VEVENT
UID:pretix-zagazaga-delia24-0@evenimente.zagazaga.ro
DTSTART;VALUE=DATE:20240726
DTEND;VALUE=DATE:20240727
DESCRIPTION:Bilete: https://evenimente.zagazaga.ro/delia24/\nOrganizator: Z
 aga Zaga Sat
DTSTAMP:20260419T144311Z
LOCATION:Zaga Zaga Sat\, DN24\, Doaga
SUMMARY:Concert DELIA
END:VEVENT
END:VCALENDAR
