BEGIN:VCALENDAR
VERSION:2.0
PRODID:-//pretix//pretix.eu//
BEGIN:VEVENT
UID:pretix-zagazaga-emeric-trio-24-0@evenimente.zagazaga.ro
DTSTART;VALUE=DATE:20240501
DTEND;VALUE=DATE:20240502
DESCRIPTION:Bilete: https://evenimente.zagazaga.ro/emeric-trio-24/\nOrganiz
 ator: Zaga Zaga Sat
DTSTAMP:20260419T144546Z
LOCATION:Zaga Zaga Sat\, DN24\, Doaga
SUMMARY:Concert Emeric TRIO
END:VEVENT
END:VCALENDAR
