BEGIN:VCALENDAR
VERSION:2.0
PRODID:-//pretix//pretix.eu//
BEGIN:VEVENT
UID:pretix-zagazaga-emeric25-0@evenimente.zagazaga.ro
DTSTART;VALUE=DATE:20250523
DTEND;VALUE=DATE:20250524
DESCRIPTION:Bilete: https://evenimente.zagazaga.ro/emeric25/\nOrganizator: 
 Zaga Zaga Sat
DTSTAMP:20260419T144300Z
LOCATION:Zaga Zaga Sat\, DN24\, Doaga
SUMMARY:Concert Emeric Imre & Marius Roje
END:VEVENT
END:VCALENDAR
