BEGIN:VCALENDAR
VERSION:2.0
PRODID:-//pretix//pretix.eu//
BEGIN:VTIMEZONE
TZID:Europe/Bucharest
BEGIN:STANDARD
DTSTART:20001029T050000
RRULE:FREQ=YEARLY;BYDAY=-1SU;BYMONTH=10
TZNAME:EET
TZOFFSETFROM:+0300
TZOFFSETTO:+0200
END:STANDARD
BEGIN:DAYLIGHT
DTSTART:20000326T040000
RRULE:FREQ=YEARLY;BYDAY=-1SU;BYMONTH=3
TZNAME:EEST
TZOFFSETFROM:+0200
TZOFFSETTO:+0300
END:DAYLIGHT
END:VTIMEZONE
BEGIN:VEVENT
UID:pretix-zagazaga-folklorika22-0@evenimente.zagazaga.ro
DTSTART;TZID=Europe/Bucharest:20220815T150000
DTEND;TZID=Europe/Bucharest:20220815T220000
DESCRIPTION:Bilete: https://evenimente.zagazaga.ro/folklorika22/\nAcces: 15
 .08.2022\, 14:30\nOrganizator: Zaga Zaga Sat
DTSTAMP:20260419T144311Z
LOCATION:Zaga Zaga Sat\, DN24\, Doaga
SUMMARY:Provincialii - FOLKLORIKA
END:VEVENT
END:VCALENDAR
