BEGIN:VCALENDAR
VERSION:2.0
PRODID:-//pretix//pretix.eu//
BEGIN:VEVENT
UID:pretix-zagazaga-folklorika23-0@evenimente.zagazaga.ro
DTSTART;VALUE=DATE:20230815
DTEND;VALUE=DATE:20230816
DESCRIPTION:Bilete: https://evenimente.zagazaga.ro/folklorika23/\nAcces: 15
 .08.2023\, 14:00\nOrganizator: Zaga Zaga Sat
DTSTAMP:20260419T144310Z
LOCATION:Zaga Zaga Sat\, DN24\, Doaga
SUMMARY:Concert FOLKLORIKA
END:VEVENT
END:VCALENDAR
