BEGIN:VCALENDAR
VERSION:2.0
PRODID:-//pretix//pretix.eu//
BEGIN:VEVENT
UID:pretix-zagazaga-folklorika24-0@evenimente.zagazaga.ro
DTSTART;VALUE=DATE:20240816
DTEND;VALUE=DATE:20240817
DESCRIPTION:Bilete: https://evenimente.zagazaga.ro/folklorika24/\nOrganizat
 or: Zaga Zaga Sat
DTSTAMP:20260419T144429Z
LOCATION:Zaga Zaga Sat\, DN24\, Doaga
SUMMARY:Concert Constantin Lătărețu & Provincialii
END:VEVENT
END:VCALENDAR
