BEGIN:VCALENDAR
VERSION:2.0
PRODID:-//pretix//pretix.eu//
BEGIN:VEVENT
UID:pretix-zagazaga-holograf23-0@evenimente.zagazaga.ro
DTSTART;VALUE=DATE:20230701
DTEND;VALUE=DATE:20230702
DESCRIPTION:Bilete: https://evenimente.zagazaga.ro/holograf23/\nOrganizator
 : Zaga Zaga Sat
DTSTAMP:20260419T144427Z
LOCATION:Zaga Zaga Sat\, DN24\, Doaga
SUMMARY:Concert HOLOGRAF
END:VEVENT
END:VCALENDAR
