BEGIN:VCALENDAR
VERSION:2.0
PRODID:-//pretix//pretix.eu//
BEGIN:VEVENT
UID:pretix-zagazaga-ioneltudorache25-0@evenimente.zagazaga.ro
DTSTART;VALUE=DATE:20251025
DTEND;VALUE=DATE:20251026
DESCRIPTION:Bilete: https://evenimente.zagazaga.ro/ioneltudorache25/\nAcces
 : 25.10.2025\, 18:00\nOrganizator: Zaga Zaga Sat
DTSTAMP:20260419T144449Z
LOCATION:Zaga Zaga Sat\, DN24\, Doaga
SUMMARY:Ionel Tudorache și taraful
END:VEVENT
END:VCALENDAR
