BEGIN:VCALENDAR
VERSION:2.0
PRODID:-//pretix//pretix.eu//
BEGIN:VEVENT
UID:pretix-zagazaga-iris23-0@evenimente.zagazaga.ro
DTSTART;VALUE=DATE:20230722
DTEND;VALUE=DATE:20230723
DESCRIPTION:Bilete: https://evenimente.zagazaga.ro/iris23/\nOrganizator: Za
 ga Zaga Sat
DTSTAMP:20260419T144239Z
LOCATION:Zaga Zaga Sat\, DN24\, Doaga
SUMMARY:Concert IRIS
END:VEVENT
END:VCALENDAR
