BEGIN:VCALENDAR
VERSION:2.0
PRODID:-//pretix//pretix.eu//
BEGIN:VEVENT
UID:pretix-zagazaga-proconsul23-0@evenimente.zagazaga.ro
DTSTART;VALUE=DATE:20230430
DTEND;VALUE=DATE:20230501
DESCRIPTION:Bilete: https://evenimente.zagazaga.ro/proconsul23/\nOrganizato
 r: Zaga Zaga Sat
DTSTAMP:20260419T144244Z
LOCATION:Zaga Zaga Sat\, DN24\, Doaga
SUMMARY:Concert Proconsul
END:VEVENT
END:VCALENDAR
