BEGIN:VCALENDAR
VERSION:2.0
PRODID:-//pretix//pretix.eu//
BEGIN:VEVENT
UID:pretix-zagazaga-proconsul24-0@evenimente.zagazaga.ro
DTSTART;VALUE=DATE:20240531
DTEND;VALUE=DATE:20240601
DESCRIPTION:Bilete: https://evenimente.zagazaga.ro/proconsul24/\nOrganizato
 r: Zaga Zaga Sat
DTSTAMP:20260419T144245Z
LOCATION:Zaga Zaga Sat\, DN24\, Doaga
SUMMARY:Concert PROCONSUL
END:VEVENT
END:VCALENDAR
