BEGIN:VCALENDAR
VERSION:2.0
PRODID:-//pretix//pretix.eu//
BEGIN:VEVENT
UID:pretix-zagazaga-taxi24-0@evenimente.zagazaga.ro
DTSTART;VALUE=DATE:20240705
DTEND;VALUE=DATE:20240706
DESCRIPTION:Bilete: https://evenimente.zagazaga.ro/taxi24/\nOrganizator: Za
 ga Zaga Sat
DTSTAMP:20260419T144427Z
LOCATION:Zaga Zaga Sat\, DN24\, Doaga
SUMMARY:Concert TAXI
END:VEVENT
END:VCALENDAR
