BEGIN:VCALENDAR
VERSION:2.0
PRODID:-//pretix//pretix.eu//
BEGIN:VEVENT
UID:pretix-zagazaga-vama25-0@evenimente.zagazaga.ro
DTSTART;VALUE=DATE:20250621
DTEND;VALUE=DATE:20250622
DESCRIPTION:Bilete: https://evenimente.zagazaga.ro/vama25/\nAcces: 21.06.20
 25\, 18:00\nOrganizator: Zaga Zaga Sat
DTSTAMP:20260419T144301Z
LOCATION:Zaga Zaga Sat\, DN24\, Doaga
SUMMARY:Concert VAMA
END:VEVENT
END:VCALENDAR
