BEGIN:VCALENDAR
VERSION:2.0
PRODID:-//pretix//pretix.eu//
BEGIN:VEVENT
UID:pretix-zagazaga-vunk23-0@evenimente.zagazaga.ro
DTSTART;VALUE=DATE:20230624
DTEND;VALUE=DATE:20230625
DESCRIPTION:Bilete: https://evenimente.zagazaga.ro/vunk23/\nOrganizator: Za
 ga Zaga Sat
DTSTAMP:20260419T144246Z
LOCATION:Zaga Zaga Sat\, DN24\, Doaga
SUMMARY:Concert VUNK
END:VEVENT
END:VCALENDAR
