BEGIN:VCALENDAR
VERSION:2.0
PRODID:-//pretix//pretix.eu//
BEGIN:VEVENT
UID:pretix-zagazaga-ziuacopilului25-4580180@evenimente.zagazaga.ro
DTSTART;VALUE=DATE:20250531
DTEND;VALUE=DATE:20250601
DESCRIPTION:Bilete: https://evenimente.zagazaga.ro/ziuacopilului25/4580180/
 \nAcces: 31.05.2025\, 18:30\nOrganizator: Zaga Zaga Sat
DTSTAMP:20260420T051817Z
LOCATION:Zaga Zaga Sat\, DN24\, Doaga
SUMMARY:Ziua Copilului @ Zaga Zaga
END:VEVENT
END:VCALENDAR
