BEGIN:VCALENDAR
VERSION:2.0
PRODID:-//pretix//pretix.eu//
BEGIN:VEVENT
UID:pretix-zagazaga-ziuacopilului25-4580181@evenimente.zagazaga.ro
DTSTART;VALUE=DATE:20250601
DTEND;VALUE=DATE:20250602
DESCRIPTION:Bilete: https://evenimente.zagazaga.ro/ziuacopilului25/4580181/
 \nAcces: 01.06.2025\, 12:00\nOrganizator: Zaga Zaga Sat
DTSTAMP:20260420T035915Z
LOCATION:Zaga Zaga Sat\, DN24\, Doaga
SUMMARY:Ziua Copilului @ Zaga Zaga
END:VEVENT
END:VCALENDAR
